BEGIN:VCALENDAR
VERSION:2.0
PRODID:-//LoveNorfolk.co.uk - ECPv6.15.17.1//NONSGML v1.0//EN
CALSCALE:GREGORIAN
METHOD:PUBLISH
X-WR-CALNAME:LoveNorfolk.co.uk
X-ORIGINAL-URL:https://lovenorfolk.co.uk
X-WR-CALDESC:Events for LoveNorfolk.co.uk
REFRESH-INTERVAL;VALUE=DURATION:PT1H
X-Robots-Tag:noindex
X-PUBLISHED-TTL:PT1H
BEGIN:VTIMEZONE
TZID:Europe/London
BEGIN:DAYLIGHT
TZOFFSETFROM:+0000
TZOFFSETTO:+0100
TZNAME:BST
DTSTART:20250330T010000
END:DAYLIGHT
BEGIN:STANDARD
TZOFFSETFROM:+0100
TZOFFSETTO:+0000
TZNAME:GMT
DTSTART:20251026T010000
END:STANDARD
BEGIN:DAYLIGHT
TZOFFSETFROM:+0000
TZOFFSETTO:+0100
TZNAME:BST
DTSTART:20260329T010000
END:DAYLIGHT
BEGIN:STANDARD
TZOFFSETFROM:+0100
TZOFFSETTO:+0000
TZNAME:GMT
DTSTART:20261025T010000
END:STANDARD
BEGIN:DAYLIGHT
TZOFFSETFROM:+0000
TZOFFSETTO:+0100
TZNAME:BST
DTSTART:20270328T010000
END:DAYLIGHT
BEGIN:STANDARD
TZOFFSETFROM:+0100
TZOFFSETTO:+0000
TZNAME:GMT
DTSTART:20271031T010000
END:STANDARD
BEGIN:DAYLIGHT
TZOFFSETFROM:+0000
TZOFFSETTO:+0100
TZNAME:BST
DTSTART:20280326T010000
END:DAYLIGHT
BEGIN:STANDARD
TZOFFSETFROM:+0100
TZOFFSETTO:+0000
TZNAME:GMT
DTSTART:20281029T010000
END:STANDARD
END:VTIMEZONE
BEGIN:VEVENT
DTSTART;TZID=Europe/London:20261009T080000
DTEND;TZID=Europe/London:20270130T170000
DTSTAMP:20260424T094306
CREATED:20250725T115414Z
LAST-MODIFIED:20260423T094443Z
UID:5430-1791532800-1801328400@lovenorfolk.co.uk
SUMMARY:Pink Footed Geese at Snettisham
DESCRIPTION:The dawn flight of up to 40\,000 pink-footed geese that make their way from Iceland and Greenland to gather on the The Wash in one of the best nature spectacles in Europe.. The arrival of the Pink-footed Geese in Snettisham has come to herald the start of the Autumn and Winter season for many bird-watchers and nature lovers. \n \nhttps://www.youtube.com/watch?v=OL9UWZ2K9gU \nExperience the “Heaven Hounds” of the North Norfolk Coast\nEvery winter\, the Norfolk skyline undergoes a dramatic transformation. From October 2026 through February 2027\, over 100\,000 Pink-footed Geese migrate from Iceland and Greenland to the Norfolk coast. Known as the “Heaven Hounds” because of their high-pitched\, evocative “wink-wink” calls that echo through the clouds\, this migration is widely considered the most impressive wildlife event in the UK. \nThe real magic happens at dawn and dusk. As the sun rises over the Wash\, tens of thousands of geese take flight simultaneously from their nighttime roosts on the mudflats to feed in the inland sugar beet fields. The sound of thousands of wings beating in unison\, paired with the cacophony of their calls\, is a sensory experience that stays with you forever. \nKey Viewing Locations for 2026: \n\n\nRSPB Snettisham: Famous for the “Snettisham Spectacular\,” where the tide pushes the birds closer to the shore. \n\n\nHolkham National Nature Reserve: Ideal for seeing vast skeins of geese against the backdrop of the pine woods and sand dunes. \n\n\nCley Marshes & NWT Holme Dunes: Excellent alternative spots for those seeking a quieter experience away from the main crowds. \n\n\n\n3. Visitor Information & Costs\nUnlike a theater show\, the geese spectacle is a natural event with no “ticket price” for the birds themselves. However\, planning for parking and reserve access is essential. \n\n\n\nLocation\nEntry Fee\nParking (Non-Members)\nBest For\n\n\n\n\nRSPB Snettisham\nFree\n£7.00 (Free for RSPB members)\nThe Dawn Flight\n\n\nHolkham Reserve\nFree\nApprox. £5.00 – £10.00 (Hourly)\nDusk Skeins\n\n\nNWT Cley Marshes\n£5.00 (Permit)\nIncluded in Permit\nWetland Variety\n\n\n\n\n \n4. Frequently Asked Questions (FAQ)\nWhen is the best time to see the Pink-footed Geese in Norfolk? \nThe peak season is from November to early January. While the birds begin arriving in October\, the largest numbers are present during the coldest months. For the best experience\, arrive at the coast at least 30 minutes before sunrise to catch the dawn flight. \nWhere is the best place to see the Snettisham Spectacular in 2026? \nThe RSPB Snettisham reserve is the premier spot. To see the birds pushed up onto the pits\, you must check the tide tables. Look for “Spring Tides” (the highest tides) during the morning for the most dramatic displays. \nWhat should I bring for a winter bird-watching trip? \n\n\nWarm Layers: The Norfolk coast is notoriously windy and cold in winter. \n\n\nBinoculars: Essential for seeing the formations in detail. \n\n\nA Torch: For navigating the paths to the hides in the dark before dawn. \n\n\nSturdy Boots: Paths can be muddy and uneven. \n\n\nAre the geese there every day? \nYes\, they remain in Norfolk throughout the winter\, but their behavior depends on the weather and moon cycles. On bright\, full-moon nights\, the geese may feed all night and move at different times\, whereas on dark\, cold mornings\, the dawn flight is more predictable. \nIs it suitable for photographers? \nAbsolutely. The “V-formations” (skeins) against a pink or orange sunrise provide some of the best wildlife photography opportunities in Europe. We recommend a fast telephoto lens to capture the birds in flight. \nA good place to stay? \nMagazine Wood is not only directly under the flight lines to Snettisham Reserve to see the birds return at dusk but also just a short drive away when visiting at dawn. \nDirectly below the Snettisham roost flight lines\, Magazine Wood is the perfect place to stay.
URL:https://lovenorfolk.co.uk/event/snettisham-geese-norfolk-coast/
LOCATION:Snettisham Nature Reserve\, Snettisham Nature Reserve\, United Kingdom
ATTACH;FMTTYPE=image/jpeg:https://lovenorfolk.co.uk/wp-content/uploads/2019/10/Events.jpg
END:VEVENT
BEGIN:VEVENT
DTSTART;TZID=Europe/London:20261225T110000
DTEND;TZID=Europe/London:20271225T170000
DTSTAMP:20260424T094306
CREATED:20250725T100202Z
LAST-MODIFIED:20260422T151657Z
UID:5412-1798196400-1829754000@lovenorfolk.co.uk
SUMMARY:Hunstanton Christmas Day Swim 2026
DESCRIPTION:The Hunstanton Christmas Day Swim with everyone taking the plunge at 11am on Friday 26th December at the town’s central promenade. This is one of Norfolk biggest events over the festive season with hundreds of people taking part. \n \nThe Hunstanton Christmas Day Swim is a beloved tradition that’s been running for over 60 years! It’s a truly unique way to celebrate Christmas\, and it’s become one of the biggest events on the North Norfolk Coast’s festive calendar. Here’s what makes it so special:  \n\n\n\n\n\n\n\nA Bracing Dip for a Good Cause: \n\nHundreds of brave souls: Every Christmas morning\, hundreds of people gather on Hunstanton beach to take a dip in the chilly North Sea. \n\n\n\n\n\n\n\n\nFestive fundraising: The event is organised by the Hunstanton and District Round Table\, who raise money for local charities. \n\n\n\n\n\n\n\n\nFancy dress fun: Many swimmers don festive costumes\, adding to the joyous and quirky atmosphere. \n\n\n\n\n\n\n\n\n\nMore than just a swim: \n\nA community spectacle: The event attracts large crowds of spectators who come to cheer on the swimmers and enjoy the festive atmosphere. \n\n\n\n\n\n\n\n\nPrizes for the best dressed: There are prizes for the best individual and group costumes\, so get creative! \n\n\n\n\n\n\n\n\nPost-swim warm-up: Enjoy free hot soup and warm showers after your invigorating dip. \n\n\n\n\n\n\n\n\n\nEssential info: \n\nDate: Christmas Day (December 25th) every year. \n\n\n\n\n\n\n\n\nTime: Usually around 11 am. \n\n\n\n\n\n\n\n\nLocation: Hunstanton Promenade\, by the Oasis Leisure Centre. \n\n\n\n\n\n\n\n\nRegistration: Required on or before the day\, usually between 10 am and 10:30 am. \n\n\n\n\n\n\n\n\nSafety first: Swimmers are required to wear shoes for safety. \n\n\n\n\n\n\n\n\n\nWhether you’re a seasoned swimmer or just looking for a unique and fun way to celebrate Christmas\, the Hunstanton Christmas Day Swim is an unforgettable experience. It’s a testament to the community spirit and festive cheer that makes the North Norfolk Coast so special. \n \nTraditionally many swimmers not only brave the icy water but also don fancy dress to raise money for charity. \nGo here for all Norfolk Coast Christmas Events \n \nDon’t miss out on the BIG events on the Norfolk Coast follow us @lovenorfolk
URL:https://lovenorfolk.co.uk/event/hunstanton-christmas-swim/
LOCATION:Oasis\, Central Promenade\, Hunstanton PE36 5BD\, Oasis\, Central Promenade\, Hunstanton PE36 5BD\, United Kingdom
CATEGORIES:Christmas,Hunstanton
ATTACH;FMTTYPE=image/png:https://lovenorfolk.co.uk/wp-content/uploads/2021/02/christmas-swim-Hunstanton-2022.png
END:VEVENT
END:VCALENDAR