BEGIN:VCALENDAR
VERSION:2.0
PRODID:-//LoveNorfolk.co.uk - ECPv6.15.17.1//NONSGML v1.0//EN
CALSCALE:GREGORIAN
METHOD:PUBLISH
X-ORIGINAL-URL:https://lovenorfolk.co.uk
X-WR-CALDESC:Events for LoveNorfolk.co.uk
REFRESH-INTERVAL;VALUE=DURATION:PT1H
X-Robots-Tag:noindex
X-PUBLISHED-TTL:PT1H
BEGIN:VTIMEZONE
TZID:Europe/London
BEGIN:DAYLIGHT
TZOFFSETFROM:+0000
TZOFFSETTO:+0100
TZNAME:BST
DTSTART:20250330T010000
END:DAYLIGHT
BEGIN:STANDARD
TZOFFSETFROM:+0100
TZOFFSETTO:+0000
TZNAME:GMT
DTSTART:20251026T010000
END:STANDARD
BEGIN:DAYLIGHT
TZOFFSETFROM:+0000
TZOFFSETTO:+0100
TZNAME:BST
DTSTART:20260329T010000
END:DAYLIGHT
BEGIN:STANDARD
TZOFFSETFROM:+0100
TZOFFSETTO:+0000
TZNAME:GMT
DTSTART:20261025T010000
END:STANDARD
BEGIN:DAYLIGHT
TZOFFSETFROM:+0000
TZOFFSETTO:+0100
TZNAME:BST
DTSTART:20270328T010000
END:DAYLIGHT
BEGIN:STANDARD
TZOFFSETFROM:+0100
TZOFFSETTO:+0000
TZNAME:GMT
DTSTART:20271031T010000
END:STANDARD
END:VTIMEZONE
BEGIN:VEVENT
DTSTART;TZID=Europe/London:20260920T110000
DTEND;TZID=Europe/London:20260920T170000
DTSTAMP:20260422T234958
CREATED:20250725T080737Z
LAST-MODIFIED:20260422T163716Z
UID:5395-1789902000-1789923600@lovenorfolk.co.uk
SUMMARY:Hunstanton Soap Box Derby 2026
DESCRIPTION:On Sunday 20 September the popular Soap box derby returns to the streets of Hunstanton in Norfolk. In 2024 around 50 home-built karts took part with karts with karts racing down the streets of Hunstanton on the first weekend of the Easter school holiday and marked over 70 years since the first Soap Box Derby was held in Hunstanton in 1953. \nEntries have now opened for Hunstanton’s Soap Box Derby and are limited to just 60 teams. It’s a day packed with family entertainment\, a carnival atmosphere and the chance to watch racing through the streets of Hunstanton. This is going to be an Easter ‘eggstravaganza’ with more karts than ever and associated activities taking place in the town supporting the event. \n \nOften described as Hunstanton’s very own whacky races will return on the 21st September 2025. The event is organised by the Borough Council of King’s Lynn & West Norfolk. Construct your hand-built karts and come and join in the fun\, racing down Hunstanton’s hilly streets\, thrilling the large crowds in attendance. Teams are encouraged from everywhere and everyone – families\, businesses\, organisations; all of the community. \nKey information\n\nVenue: The Green\, Hunstanton PE36 6BL\nDate: Sunday 20th September 2026\nRacing time: Approximately 11am to 5pm\nEntry fee: Senior £25\, Junior £20\n\nThe course is fast and exciting with challenges to overcome (ramp\, chicane and tight corners). Starting by the High Street on Greevegate\, it zooms down past the Green and finishes in Beach Terrace Road by the Bandstand. \nThe course and its start and finish is controlled on the day by King’s Lynn & District Motor Club. \n \nFor spectators there will be music and entertainment on the Green\, all contributing to a great carnival atmosphere for all the family! There are plenty of outlets nearby the Green and the course to purchase food and refreshments. \nRace categories\nChoose which category to enter from the four below (note the change of senior ages this year): \nJunior\nUnder 13 (10-12 year olds)\nUnder 16 (13-15 year olds)\nSenior\nAdult (16-49 year olds)\nVeterans (50+)\nNB. All above ages are as on race day. \nPrizes\nThere will be prizes for teams finishing first\, second and third in each category and a trophy for the overall winner. There will also be a ‘Concours d’elegance’ award for the best-looking kart. \nEntry fees\nSenior £25\nJunior £20\nProvisional race timings\nIf you’re racing\, registration will begin from 9.30am. Scrutineering will take place in the pits on the Upper Green with officials checking all karts for conformity to event rules. \nTeams\nTeams may consist of up to 4 members in total (including driver or drivers). Karts may accommodate one or two drivers (no more). Team members not driving will push off the kart at the start. \nSafety\nThis is an event with some dangers so drivers and team members must consider these. Drivers MUST wear a helmet and the organisers strongly recommend that this is a full face helmet. Organisers also strongly recommend drivers to wear a gum shield and that legs and arms are fully dressed (ie. no bare legs or arms). \nPresentations\nThe day will conclude with a presentation ceremony once racing has ended and the results have been established. \nEvent rules\nAll entrants must read and agree to the event rules and kart specifications. Entrants must construct their karts in line with event specifications covering size\, brake systems etc. \nEvent rules and specifications are available here. \nClosing date\nEntries will close on 4 September 2024. Limit of 60 entries (in total). \nGo here for an entry form.
URL:https://lovenorfolk.co.uk/event/hunstanton-soap-box-derby/
LOCATION:Cliff Parade\, Cliff Parade\, Hunstanton\, PE36 6BQ\, United Kingdom
CATEGORIES:Hunstanton
ATTACH;FMTTYPE=image/jpeg:https://lovenorfolk.co.uk/wp-content/uploads/2023/04/Hunstanton-Soap-Box-2023.jpg
END:VEVENT
END:VCALENDAR