BEGIN:VCALENDAR
VERSION:2.0
PRODID:-//LoveNorfolk.co.uk - ECPv6.15.17.1//NONSGML v1.0//EN
CALSCALE:GREGORIAN
METHOD:PUBLISH
X-ORIGINAL-URL:https://lovenorfolk.co.uk
X-WR-CALDESC:Events for LoveNorfolk.co.uk
REFRESH-INTERVAL;VALUE=DURATION:PT1H
X-Robots-Tag:noindex
X-PUBLISHED-TTL:PT1H
BEGIN:VTIMEZONE
TZID:Europe/London
BEGIN:DAYLIGHT
TZOFFSETFROM:+0000
TZOFFSETTO:+0100
TZNAME:BST
DTSTART:20240331T010000
END:DAYLIGHT
BEGIN:STANDARD
TZOFFSETFROM:+0100
TZOFFSETTO:+0000
TZNAME:GMT
DTSTART:20241027T010000
END:STANDARD
BEGIN:DAYLIGHT
TZOFFSETFROM:+0000
TZOFFSETTO:+0100
TZNAME:BST
DTSTART:20250330T010000
END:DAYLIGHT
BEGIN:STANDARD
TZOFFSETFROM:+0100
TZOFFSETTO:+0000
TZNAME:GMT
DTSTART:20251026T010000
END:STANDARD
BEGIN:DAYLIGHT
TZOFFSETFROM:+0000
TZOFFSETTO:+0100
TZNAME:BST
DTSTART:20260329T010000
END:DAYLIGHT
BEGIN:STANDARD
TZOFFSETFROM:+0100
TZOFFSETTO:+0000
TZNAME:GMT
DTSTART:20261025T010000
END:STANDARD
END:VTIMEZONE
BEGIN:VEVENT
DTSTART;TZID=Europe/London:20250801T080000
DTEND;TZID=Europe/London:20250810T170000
DTSTAMP:20260422T170302
CREATED:20250725T101901Z
LAST-MODIFIED:20260216T090656Z
UID:5413-1754035200-1754845200@lovenorfolk.co.uk
SUMMARY:Wells-Next-Sea Carnival Week 2025
DESCRIPTION:A week of family fun and events including a Carnival Day procession around the town featuring floats\, fancy-dress\, pull-and push-along vehicles and much more. \nWells-next-the-Sea in the heart of North Norfolk has for over a 100 years enjoyed a traditional summer Carnival for residents and visitors. A week of family fun and events including a Carnival Day procession around the town featuring floats\, fancy-dress\, pull-and push-along vehicles and much more. \n \n\n\nThe 2025 Wells Carnival in Wells-next-the-Sea\, Norfolk\, will take place from Friday\, August 1st to Sunday\, August 10th. The Carnival Day and Parade will be held on Saturday\, August 9th.  \n\n\n\n\n\n\n\n\nTraditional seaside activities include a sand-castle competition\, town crier competition\, gillying on the Wells-next-sea quay and the crowning of the Carnival Royals. In addition you will find stalls selling everything from local delicacies to exotic street food. Carnival day & Parade Saturday will take place on August 10th.\n\n\n\n\nWhat to expect\nDuring the 10 days of Wells Carnival there are many events that welcome business or charity stalls. All types are welcome\, whether informational\, craft\, food or services and we offer special rates to charities. \nEvents suitable for stalls during the week normally include: \nDaytime Events\nFete Day – takes place on the 1st Sunday on the Buttlands\nFood & Craft Fair – takes place on the Tuesday on the Buttlands\nCarnival Day – takes place on the 2nd Saturday on the Buttlands \nEvening Events\nLive Music Event – takes place on the 1st Saturday on the Buttlands\nLive Music Event – takes place on the 1st Sunday on the Buttlands\nScreen on the Green – takes place on the Monday on the Buttlands\nLive Music Event – takes place on the Friday on the Buttlands\nLive Music Event – takes place on the 2nd Saturday on Buttlands \n \nIn 2024 there was a selection of stallholders and food stores including: \nAda Baby\nAvon\nBand of Starlings\nBlack Cat Charms\nBurn Valley Vineyard\nCapricorn Crafts\nCeeCees & Glass by Cherry\nCivil Block Microsoapery\nFox Fashion and Collectables\nGrandads Shed\nGreenacre Plants\nHannah’s Roses\nIvy Cottage Bees\nJacbags & More\nLaserlydesigns\nLibaohp\nLittle Blue Waves Art & Crafts\nLucy Lumby Art \nMana-luscious\nMoorend Moisturisers\nMurphy and the Geek\nMy Girl and Me Designs\nMy New England\nNorfolk Hygge\nPretty Little Products\nSOJO\nSteve Hobart Photography\nThe ‘Erb Lady\nThe Shimmer Shack Norfolk\nTiny Pieces of Norfolk\nVintage on the Coast & Willow & Wisp\nWalnut Tree Distillery Ltd\nWhin Hill cider\nWickhams Candle Company\nWillows & Wildsmith\nYum Yum Tree Fudge Norfolk \nAnna’s a Beautiful place to stay on the North Norfolk Coast
URL:https://lovenorfolk.co.uk/event/wells-carnival-norfolk/
LOCATION:Wells-Next-Sea\, Norfolk Coast
CATEGORIES:Food,Music,Summer
ATTACH;FMTTYPE=image/jpeg:https://lovenorfolk.co.uk/wp-content/uploads/2019/12/Wells-Norfolk-Carnival.jpg
END:VEVENT
BEGIN:VEVENT
DTSTART;TZID=Europe/London:20250807T080000
DTEND;TZID=Europe/London:20250810T170000
DTSTAMP:20260422T170302
CREATED:20250725T070708Z
LAST-MODIFIED:20260216T090655Z
UID:5387-1754553600-1754845200@lovenorfolk.co.uk
SUMMARY:Gone Wild Festival Holkham Norfolk 2025
DESCRIPTION:TV adventurer Bear Grylls has announced that the UK’s ultimate family adventure festival\, Gone Wild\, will be returning to Holkham Park  in 2025 and it will run across four days from Thursday\, August 8 until Sunday August 11. \n \nAfter a sold-out debut in 2024\, Gone Wild Festival returns to Holkham Hall in Norfolk! \nGet ready for four days of action-packed adventure\, rewilding\, and live music\, with over 100 activities included in the ticket price. Building on the success of 2024’s impressive lineup\, which included Example\, Eurovision star Sam Ryder\, Reef\, Scouting for Girls\, and McFly\, Gone Wild will soon be announcing the headline acts for 2025! \n \nCo-founded by Bear Grylls and former Royal Marines Officer Oli Mason\, this family-friendly festival offers a wide variety of activities for all ages. Whether you’re an adventure seeker\, a music enthusiast\, or simply eager to learn something new\, there’s something for you: \n\nInspirational talks: Hear from renowned adventurers and experts.\nLive music: Enjoy top headliners and amazing musical talent.\nBMX shows: Be amazed by incredible stunts.\n\nAnd much more! Keep an eye out for the 2025 lineup announcement! \n \nYou can choose to stay clean and dry or get messy and wet! As you’d expect from a Bear Grylls festival\, there are plenty of opportunities to put mud or camo on your face and run through the river or go through the sheep dip or giant water mud slide or rafting. It’s about exploring new adventures\, new experiences and new limits all while having fun… \n \nThese range from archery\, abseiling\, survival skills\, axe and spear throwing\, to tree climbing\, break dance workshops\, foraging walks\, shelter construction\, raft building\, rock climbing\, wild swimming and SUP experiences. \nMany activities are included but some like the colour run\, firewall\, air stunt bag and quad biking are premium (pay extra) options. \nAmong the must-do highlights of the festival is the commando assault course which takes participants around the estate grounds with the opportunity to get muddy on the various obstacles they meet on the way. \nProviding an unforgettable and affordable escape\, where families can spend time together in the great outdoors\, the festival is expected to sell out quickly\, with only 5\,000 tickets available. With a focus on glamping\, camping\, getting back to nature\, participating in wild adventures and challenges\, including conquering the legendary Gone Wild commando course\, the festival promises to be action-packed activities from day one.
URL:https://lovenorfolk.co.uk/event/gone-wild-holkham-norfolk/
LOCATION:Auto Draft
CATEGORIES:Food,Holkham Hall,Music,Norfolk Festivals,Summer
ATTACH;FMTTYPE=image/jpeg:https://lovenorfolk.co.uk/wp-content/uploads/2023/11/Gone-Wild-Festival-Holkham-Norfolk-2024-1.jpeg
END:VEVENT
BEGIN:VEVENT
DTSTART;TZID=Europe/London:20250814T010000
DTEND;TZID=Europe/London:20250817T020000
DTSTAMP:20260422T170302
CREATED:20250725T065816Z
LAST-MODIFIED:20260216T090655Z
UID:5386-1755133200-1755396000@lovenorfolk.co.uk
SUMMARY:Sandringham August Concert Weekend 2025
DESCRIPTION:In  August 2025\, Sandringham will once again be holding a weekend of live concerts on Friday 15th\, Saturday 16th and Sunday 17th August with Mariah Carey\, Stereophonics and Michael Buble being announced for Friday\, Saturday and Sunday as part of the 2025 line-up. \n \nFriday 15th August \nMariah Carey\, an iconic figure in the music industry\, has cemented her status as one of the most successful and influential artists of all time. Mariah Carey will be performing at the prestigious Sandringham Estate on Saturday\, August 17\, 2025. This highly anticipated performance is sure to be a memorable event for fans and music lovers alike. \nWith an unparalleled vocal range spanning five octaves and a knack for crafting captivating love ballads\, Carey has captivated audiences worldwide for over three decades. Her remarkable achievements include nineteen No. 1 hits on the Billboard Hot 100\, a feat unmatched by any other solo artist. \nCarey’s meteoric rise to fame began with her self-titled debut album in 1990. The album’s instant success launched her into superstardom\, showcasing her extraordinary vocal talent and establishing her as a prominent force in the pop music landscape. Throughout the 1990s\, she released diamond-certified albums such as Music Box and Daydream\, solidifying her position as a global phenomenon. During this period\, she surpassed Michael Jackson’s record for the most chart-topping singles by a solo artist\, a testament to her widespread popularity and commercial success. \nThe turn of the millennium saw Carey continue to evolve as an artist\, exploring different musical styles while maintaining her signature vocal prowess. In 2005\, she released The Emancipation of Mimi\, an album that became the best-selling record of that year\, further demonstrating her enduring appeal. This album earned her critical acclaim and solidified her comeback\, reaffirming her position at the pinnacle of the music industry. \n \nThroughout her illustrious career\, Mariah Carey has amassed an impressive collection of hit songs that have become anthems for generations. From her early ballads like “Vision of Love” and “Hero” to the upbeat rhythms of “Fantasy” and the record-breaking collaboration with Boyz II Men\, “One Sweet Day\,” her music has resonated with millions. And\, of course\, no holiday season is complete without her ubiquitous Christmas classic\, “All I Want For Christmas Is You\,” a song that continues to break records and spread festive cheer year after year. \nWith over 200 million albums sold worldwide\, five GRAMMY Awards\, and countless other accolades\, Mariah Carey’s impact on music is undeniable. Her influence extends beyond her commercial success\, as she has inspired countless aspiring artists with her vocal prowess and her unwavering dedication to her craft. Her legacy as a true music icon is secure. \n Saturday 16th August \nAs the sun sets over the estate\, fans can look forward to an exciting setlist “No Hit Left Behind” featuring classics like “Dakota\,” “Traffic\,” and “Have a Nice Day\,” alongside newer tracks that showcase the band’s evolution over the years. Each song will be infused with the band’s signature energy\, captivating both long-time fans and newcomers alike. There will also be special guests Blossoms and Jake Bugg! \nThe picturesque backdrop of Sandringham—renowned for its lush gardens and serene landscapes—will enhance the concert experience\, creating a magical atmosphere for music lovers. Imagine enjoying live rock music while surrounded by the stunning natural beauty of one of the Queen’s residences. It’s not just a concert; it’s a chance to immerse yourself in a blend of world-class music and breathtaking scenery. \nTICKETS ON SALE 9AM Wednesday 6th November HERE \n \nMICHAEL BUBLE Sunday 17th August \nInternational artist Michael Bublé has been unveiled as the first act for the highly anticipated concerts in August 2025. This exclusive open-air performance at the Estate will be Michael’s sole appearance in England during the summer of 2025. \nThroughout his illustrious career\, Michael has garnered numerous accolades\, including five GRAMMY Awards\, fifteen JUNO Awards\, a star on the hallowed Hollywood Walk of Fame and Canada’s Walk of Fame\, six multi-platinum albums\, and a staggering fourteen billion global streams. Over the past two decades\, Michael has dedicated himself to preserving and revitalizing the Great American Songbook\, imbuing timeless tunes with his distinctive style\, vocal prowess\, and unyielding passion. \nIn 2003\, he released his eponymous debut album\, followed by an array of multi-platinum\, chart-topping albums\, including “Call Me Irresponsible” (2007)\, “Crazy Love” (2009)\, “To Be Loved” (2013)\, “Love” (2018)\, and “Christmas” (2011). Michael’s latest studio album\, “Higher” (2022)\, marked his ninth Top 10 entry on Billboard’s Top Album Sales Chart and his seventh consecutive studio album to debut in the Top 3. Additionally\, it achieved the prestigious No.1 position on the UK Album Chart. \nTICKETS ON SALE NOW HERE
URL:https://lovenorfolk.co.uk/event/sandringham-major-concerts/
LOCATION:Sandringham House\, Sandringham House\, PE36 6EN\, United Kingdom
CATEGORIES:Music,Sandringham,Summer
ATTACH;FMTTYPE=image/jpeg:https://lovenorfolk.co.uk/wp-content/uploads/2024/01/Sandringham-Concert-2024.jpg
END:VEVENT
BEGIN:VEVENT
DTSTART;VALUE=DATE:20250828
DTEND;VALUE=DATE:20250831
DTSTAMP:20260422T170302
CREATED:20250725T073023Z
LAST-MODIFIED:20260422T154458Z
UID:5394-1756339200-1756598399@lovenorfolk.co.uk
SUMMARY:Maui Waui Music Festival
DESCRIPTION:Maui Waui is a 3 day 7  Night  international festival of music\, performance and arts. \nThe Maui Waui Festival of Music and Performing Arts returns to its new location at Hill Farm\, near Dereham\, Norfolk on the 22nd to the 24th August 2025 and is celebrating 12 glorious years of bringing amazing music and performing arts to the East Anglian countryside. \n \n\n\n\nFeature\nInformation\n\n\n\n\nDates\nFriday 28th – Sunday 30th August 2026\n\n\nLocation\nElveden Hall Estate\, Thetford\, Suffolk/Norfolk border\n\n\nVibe\nCreative\, Bohemian\, Family-Friendly\, Alternative\n\n\nCamping\nOn-site camping and glamping options available\n\n\nHighlights\nMain Stage Big Top\, Circus Tent\, Americana Day (Sunday)\n\n\n\nGet ready for a vibrant fusion of music\, art\, and history! The Maui Waui Festival is set to return in August 2026\, taking over the prestigious and sprawling grounds of Elveden Hall Estate in Suffolk. \nKnown as one of East Anglia’s best-kept secrets\, this family-friendly extravaganza is more than just a music festival—it’s a meticulously handcrafted world of creativity and joy. \n\nWhat to Expect at Maui Waui 2026\n1. A Grand & Historic Setting\nHosting the festival at Elveden Hall adds a layer of majesty to the event. As the former home of Maharajah Duleep Singh and the Guinness family\, the estate provides a stunning backdrop of Italianate architecture and Mughal-inspired grandeur. Expect the festival stages to be nestled among ancient trees and rolling lawns\, offering a “boutique” feel that blends wild festival energy with stately elegance. \n2. An Eclectic Musical Programme\nMaui Waui is famous for its diverse and non-mainstream line-up. Across multiple stages (including the iconic Big Top)\, you can expect: \n\n\nGenres: Electro Swing\, Reggae\, Dub\, Folk\, Funk\, Soul\, and Gypsy Jazz. \n\n\nThe World Music Café: A dedicated space for international acts\, late-night Flamenco\, and African beats. \n\n\nThe “Crime Scene”: For those who love electronic vibes\, this area usually \n\n\n pumps out high-energy Techno and Breakbeat until the early hours. \n\n\n\n  \n\n\n\n\n\n\n  \n  \n  \n  \n  \n3. Circus\, Cabaret & Performance Art\nCreativity is the heartbeat of Maui Waui. One of the biggest draws is the dedicated Circus Tent\, featuring world-class acrobats\, aerialists\, and clowning. You’ll also find: \n\n\nThe Living Art S \n\n\nhow: A jaw-dro \n\n\npping body-painting competition where models are transformed into walking masterpieces. \n\n\nCabaret & Comedy: Intimate stages hosting everything from stand-up to satirical theatre. \n\n\n4. A Family-First Atmosphere\nThis is a festival where children aren’t just “allowed”—they are prioritised. With a dedicated kids’ area\, the younger ones can participate in: \n\n\nWorkshops: Crafting\, circus skills\, and storytelling. \n\n\nMaui’s Got Talent: A chance for young performers to take to the stage and showcase their skills. \n\n\nSafe Space: The festival maintains a “village” vibe that is welcoming and inclusive for all ages. \n\n\n 
URL:https://lovenorfolk.co.uk/event/maui-waui-festival/
LOCATION:Elveden Hall Suffolk\, Thetford\, Suffolk\, IP24 3TA\,
CATEGORIES:Music,Norfolk Festivals,Summer
ATTACH;FMTTYPE=image/jpeg:https://lovenorfolk.co.uk/wp-content/uploads/2025/07/Maui-Waui-2026.jpeg
END:VEVENT
END:VCALENDAR