BEGIN:VCALENDAR
VERSION:2.0
PRODID:-//LoveNorfolk.co.uk - ECPv6.15.17.1//NONSGML v1.0//EN
CALSCALE:GREGORIAN
METHOD:PUBLISH
X-ORIGINAL-URL:https://lovenorfolk.co.uk
X-WR-CALDESC:Events for LoveNorfolk.co.uk
REFRESH-INTERVAL;VALUE=DURATION:PT1H
X-Robots-Tag:noindex
X-PUBLISHED-TTL:PT1H
BEGIN:VTIMEZONE
TZID:Europe/London
BEGIN:DAYLIGHT
TZOFFSETFROM:+0000
TZOFFSETTO:+0100
TZNAME:BST
DTSTART:20250330T010000
END:DAYLIGHT
BEGIN:STANDARD
TZOFFSETFROM:+0100
TZOFFSETTO:+0000
TZNAME:GMT
DTSTART:20251026T010000
END:STANDARD
BEGIN:DAYLIGHT
TZOFFSETFROM:+0000
TZOFFSETTO:+0100
TZNAME:BST
DTSTART:20260329T010000
END:DAYLIGHT
BEGIN:STANDARD
TZOFFSETFROM:+0100
TZOFFSETTO:+0000
TZNAME:GMT
DTSTART:20261025T010000
END:STANDARD
BEGIN:DAYLIGHT
TZOFFSETFROM:+0000
TZOFFSETTO:+0100
TZNAME:BST
DTSTART:20270328T010000
END:DAYLIGHT
BEGIN:STANDARD
TZOFFSETFROM:+0100
TZOFFSETTO:+0000
TZNAME:GMT
DTSTART:20271031T010000
END:STANDARD
BEGIN:DAYLIGHT
TZOFFSETFROM:+0000
TZOFFSETTO:+0100
TZNAME:BST
DTSTART:20280326T010000
END:DAYLIGHT
BEGIN:STANDARD
TZOFFSETFROM:+0100
TZOFFSETTO:+0000
TZNAME:GMT
DTSTART:20281029T010000
END:STANDARD
END:VTIMEZONE
BEGIN:VEVENT
DTSTART;VALUE=DATE:20261107
DTEND;VALUE=DATE:20261223
DTSTAMP:20260425T114843
CREATED:20250725T071417Z
LAST-MODIFIED:20260422T165447Z
UID:5389-1794009600-1797983999@lovenorfolk.co.uk
SUMMARY:Norfolk Christmas Markets 2026
DESCRIPTION:All the best Norfolk Christmas markets happening along the coast this November and December including Sandringham Gift Fair\, Holkham\, Pensthorpe\, South Creake and many more \n \n  \nNorfolk’s festive season is set to be more magical than ever in 2026\, with a variety of Christmas markets and fairs bringing festive cheer to the county. From grand stately homes to charming coastal villages\, these events offer a perfect opportunity to find unique gifts\, sample local seasonal produce\, and enjoy the holiday atmosphere. \nThe Major Markets and Stately Homes\nThe Sandringham Christmas Craft Food and Gift Fair remains a highlight of the Norfolk calendar. For 2026\, the fair is scheduled to take place on Friday\, November 13th\, with additional weekend dates to be confirmed. Visitors can browse a massive variety of stalls ranging from handmade crafts to a bustling food hall\, all set within the beautiful grounds of the Royal Estate. \n \nHolkham Hall provides a grand backdrop for its annual festive celebrations. The Holkham Christmas Fair is confirmed for Saturday\, December 12th\, 2026. This event is packed with local artisans and pr \noducers\, offering high-quality gifts and decorations. For those looking for a more immersive experience\, the Candlelight Tours of the hall typically begin around December 1st (dates to be confirmed). \nAt the Norfolk Showground\, the Winter Wonderland returns from November 30th\, 2026\, to January 4th\, 2027. This event features a large-scale Christmas market\, ice rink\, and fairground rides. Additionally\, the Norfolk Festive Gift & Food Show will be held at the showground from November 13th to 15th\, 2026\, focusing specifically on gift shopping and gourmet treats. \nCoastal and Village Markets\nThe Deepdale Christmas Shopping experience (now centered around Dalegate Market) offers a unique alternative to the high street throughout November and December. Specific artisan pop-up dates are confirmed for November 6–8\, 13–15\, 27–29\, and December 7–13\, 2026. It is a must-visit for anyone looking for independent Norfolk producers and a relaxed coastal vibe. \nIn the picturesque village of Burnham Market\, the annual Christmas Lights Switch-on is a beloved local event. While the official 2026 date is to be confirmed\, it typically takes place in mid-November. Sadly the Holt Christmas Lights no longer takes place but the Aylsham Christmas Market are expected to return in late November (dates to be confirmed)\, turning these historic market towns into twinkling winter scenes. \nUnique and Special Mentions\nFor a truly spectacular outing\, the Thursford Christmas Spectacular remains Europe’s largest festive show. In 2026\, performances are scheduled throughout November and December\, including confirmed dates on November 19–20\, November 25–26\, and December 3–12. While primarily a show\, the onsite shopping village offers a delightful range of Christmas decorations and gifts. \nNew for 2026\, the Norfolk County Christmas Fair will be held at the magnificent Kimberley Hall in Wymondham from December 4th to 6th. This event promises over 150 stallholders in heated marquees\, offering a luxury shopping experience. \nOther notable events include: \nPensthorpe Christmas Market: Sunday\, November 29th\, 2026. \nNorfolk Artisan Fair (Fakenham Racecourse): November 7th and 8th\, 2026. \nThe Assembly House Christmas Markets (Norwich): November 22nd and 29th\, 2026. \nPlanning Your Visit\nNorfolk’s Christmas markets are incredibly popular\, and many of the larger fairs recommend pre-booking tickets or arriving early to secure parking. Whether you are looking for Norfolk dapple cheese\, handmade lavender gifts\, or locally brewed ales\, 2026 promises a diverse and vibrant festive shopping season across the county. \n 
URL:https://lovenorfolk.co.uk/event/norfolk-christmas-markets/
CATEGORIES:Christmas,Fakenham Races,Food,Holkham Hall,Sandringham
ATTACH;FMTTYPE=image/jpeg:https://lovenorfolk.co.uk/wp-content/uploads/2019/10/Sandringham-Christmas-fair.jpg
END:VEVENT
BEGIN:VEVENT
DTSTART;TZID=Europe/London:20261110T080000
DTEND;TZID=Europe/London:20261223T170000
DTSTAMP:20260425T114843
CREATED:20250725T112354Z
LAST-MODIFIED:20260424T112156Z
UID:5420-1794297600-1798045200@lovenorfolk.co.uk
SUMMARY:Thursford Christmas Spectacular 2026
DESCRIPTION:The Thursford Christmas Spectacular opens this year on Saturday 10th November and has become one of the most anticipated festive events in East Anglia\, having attracted audiences from across the country since opening on Christmas Eve 1977. Fantastic sets and colour\, the choreography\, the singing and dancing\, and a very special ‘Christmassy’ atmosphere. The show has a 130-strong cast and has a budget of £1.8m\, and there is so much happening on the huge stage that it is hard to decide what to focus on. The overall effect is quite breath-taking. \n \n \n\nThe Thursford Christmas Spectacular 2026 is more than just a performance; it is an immersive holiday journey. As Europe’s largest seasonal show\, it transforms the heart of rural Norfolk into a glittering hub of West End-quality entertainment. With a multi-million pound production budget\, the 2026 season brings together a powerhouse cast of 130 professional singers\, dancers\, and musicians. \nFrom the moment you enter the auditorium—surrounded by the golden glow of vintage fairground carousels and the world-famous mechanical organs—the magic begins. The three-hour variety show is a whirlwind of high-kicking dancers\, side-splitting comedy\, and breathtaking variety acts\, all supported by a live 30-piece orchestra. \nWhat’s New for the 2026 Season? \nBuilding on the “sell-out” success of previous years\, the 2026 production features updated choreography\, brand-new costume designs\, and an enhanced state-of-the-art sound system. Expect a seamless blend of contemporary holiday hits and soul-stirring traditional carols\, culminating in the legendary dove fly-over. \n\nPerformance Schedule & Planning\n\n\nSeason Dates: Early November 2026 – December 23\, 2026. \n\n\nShow Times: * Matinee: 2:00 PM \n\n\nEvening: 7:00 PM \n\n\n\n\nDuration: Approximately 3 hours\, including a 25-minute interval. \n\n\nBeyond the Show: The Thursford Collection\nWhile the Spectacular is the main event\, your 2026 visit can be extended with these additional festive attractions (note: separate tickets required): \n\n\nThe Enchanted Journey of Light: A walk-through wonderland featuring thousands of lanterns and mechanical figures. \n\n\nSanta’s Magical Journey: The ultimate Grotto experience for families. \n\n\nThe Steam Museum: Explore one of the world’s largest collections of steam engines and organs before the curtain rises. \n\n\n\n Frequently Asked Questions \nHow much are tickets for the Thursford Christmas Spectacular 2026? \nTicket prices for 2026 range from £47.00 to £60.00 per person\, depending on your choice of seating. Discounts are available for pre-booked groups of 20 or more. \nWhen do tickets go on sale for 2026? \nTickets are typically released online and via the box office early in the year. Due to extreme demand\, it is recommended to book by late spring for the best choice of weekend dates. \nIs there a dress code for the show? \nThere is no formal dress code\, but many visitors choose “festive smart-casual.” The venue is heated\, but as it is a large converted barn\, we recommend bringing layers for the transition from the courtyard to the auditorium. \nCan I visit the shops and restaurant without a show ticket? \nYes\, the festive gift shops and the on-site restaurant are available to visitors\, though they become very busy during the interval and immediately following matinee performances. \nWhere’s a good place to stay? \nIF you want to combine it with maybe a two day break Magazine Wood and Anna’s House are about a 30 minute drive from Thursford but also close to the coast\, Sandringham and other places that are great to visit. \n\n\n\n\n Sources and related content \n\n\n\n\n\n\n\n\n\n\n\n\n\n\n\n\n\n\nAnna’s a beautiful hotel on the North Norfolk Coast \nMagazine Wood – Three suites with commanding views over the Norfolk coast. \n.
URL:https://lovenorfolk.co.uk/event/thursford-christmas-spectacular/
LOCATION:Thursford Norfolk\, Thursford Norfolk\, United Kingdom
CATEGORIES:Christmas,Music
ATTACH;FMTTYPE=image/jpeg:https://lovenorfolk.co.uk/wp-content/uploads/2025/07/Thursford-Christmas-Spectacular-Dancing-Girls-NCN-499x350-1.jpg
END:VEVENT
BEGIN:VEVENT
DTSTART;TZID=Europe/London:20261113T090000
DTEND;TZID=Europe/London:20261115T170000
DTSTAMP:20260425T114843
CREATED:20250725T102230Z
LAST-MODIFIED:20260422T162610Z
UID:5414-1794560400-1794762000@lovenorfolk.co.uk
SUMMARY:Sandringham Christmas Gift Fair 2026
DESCRIPTION:This HUGE Christmas Craft Show held on 3 days in 2026 From Friday 13th to Sunday 15th November 2026 at Sandringham House\, bringing the opportunity to shop in comfort for all your Christmas food and gifts. \nOnce again featuring a spectrum of colourful stands\, it promises to be the Christmas shopping event of the year for visitors looking for unusual gifts and exciting additions to their own festive experience. \n \nLooking for the best Christmas markets in Norfolk? Get ready to kick off your holiday season at the Sandringham Christmas Fair! This isn’t just a craft fair; it’s a full-day festive extravaganza designed for families\, foodies\, and holiday shoppers alike. \nWhether you’re hunting for the perfect “wow” gift or want to soak up the seasonal atmosphere at the historic Sandringham Estate\, this event is a must-visit. \nShop Unique Handcrafted Gifts & Artisan Crafts\nSupport talented UK creators and find one-of-a-kind Christmas presents that you won’t find on the high street. Our diverse array of stalls features: \n\n\nIntricate Jewellery & Beadwork: Timeless pieces for someone special. \n\n\nHandmade Ceramics & Sculptures: Beautiful additions to any home. \n\n\nExquisite Textiles & Wood Carvings: Traditional craftsmanship at its finest. \n\n\nCaptivating Pyrography: Unique wood-burned art and decor. \n\n\nIndulge in the Gourmet Food Hall\nFoodies\, take note! The Sandringham Food Hall is a sanctuary for culinary delights. It’s the perfect place to: \n\n\nSample artisanal treats from local and national producers. \n\n\nEnjoy a festive meal or light refreshments in a cozy atmosphere. \n\n\nStock up on gourmet goodies to elevate your Christmas dinner table or give as delicious holiday hampers. \n\n\nFestive Family Entertainment: Reindeer\, Music\, and More\nBeyond the shopping\, we offer a packed schedule of family-friendly holiday activities. Experience the magic of the season with: \n\n\nLive Reindeer: A highlight for children and adults alike. \n\n\nSanta’s Owl Show: A captivating performance that adds a touch of wonder to your day. \n\n\nCraft Demonstrations: Watch skilled artisans bring their creations to life. \n\n\nLive Music: Festive tunes to keep the holiday spirit high all day long. \n\n\n\nPlan Your Visit: Don’t miss out on one of the top festive events in the UK. Book your Sandringham Christmas Fair tickets today and make unforgettable holiday memories! \n\nDates: November 13th\, 15th & 15th\, 2026\nLocation: Sandringham Estate\, King’s Lynn\, Norfolk\, PE35 6EN\nTickets: Adults £12\, Seniors £11\, Children £5 \n \n \nDon’t miss out on the BIG events on the Norfolk Coast. Follow us @lovenorfolk
URL:https://lovenorfolk.co.uk/event/sandringham-christmas-fair/
LOCATION:Sandringham Estate Norfolk PE35 6EN\, Sandringham Estate Norfolk PE35 6EN\, United Kingdom
CATEGORIES:Christmas,Food,Sandringham
ATTACH;FMTTYPE=image/jpeg:https://lovenorfolk.co.uk/wp-content/uploads/2019/10/Sandringham-Game-Fair-2022.jpg
END:VEVENT
BEGIN:VEVENT
DTSTART;TZID=Europe/London:20261113T100000
DTEND;TZID=Europe/London:20270103T220000
DTSTAMP:20260425T114843
CREATED:20250725T071108Z
LAST-MODIFIED:20260422T163031Z
UID:5388-1794564000-1799013600@lovenorfolk.co.uk
SUMMARY:Winter Wonderland Norwich Norfolk 2026
DESCRIPTION:Winter Wonderland Norwich is an event that offers Christmas family fun for everyone with a huge real Ice Rink\, Thrilling Rides\, a Giant Observation Wheel plus themed bars for the grown-ups. \n \nThe Winter Wonderland Norwich is a Christmas event that offers family-friendly entertainment. It features a vast real ice rink\, thrilling rides\, a gigantic observation wheel\, and themed bars for adults. Visitors can explore a larger and improved Christmas tree maze with intricate twists and turns. The event will be open daily (except Christmas Day) from Friday\, November 21\, 2025\, to Sunday\, January 5\, 2026. \n \nOn opening evening\, Father Christmas and his elves will arrive and stay until Christmas Eve. Younger guests can visit his upgraded grotto\, meet him personally\, and receive a special Christmas gift. Skating enthusiasts can enjoy the biggest-ever real ice rink. With thousands of gleaming lights\, the rink and its skaters create a stunning spectacle. Skate hire is included in the ticket price\, and skate aids are available for younger skaters and those taking their first steps on the ice. \n \nPurchasing an ice skating ticket grants free admission to the entire event\, allowing visitors to experience rides\, food\, and various attractions before putting on their skates.The popular funfair and theme park rides are returning\, including roller coasters\, the snow dome waltzer\, family rides like dodgems\, the big top fun house\, and children’s rides. Thrill-seekers can experience fast-paced rides like the Red Devil & Airmaxx\, a 60m Sky Swing attraction\, and the new Extreme ride. \n \nAll-ride passes are available for the first time in 2024\, providing unlimited access to rides* for the entire day. These passes include general admission and unlimited rides*\, subject to height and age restrictions. It offers excellent value for money\, allowing visitors to enjoy the thrills and excitement all day long (*excludes Giant Wheel). \nThe event will be open daily (except Christmas Day) from Friday\, November 13\, 2026\, to Sunday\, January 3\, 2027.
URL:https://lovenorfolk.co.uk/event/winter-wonderland-norwich-norfolk/
LOCATION:Norfolk Showground\, Norfolk Showground Dereham Road\, Norwich NR5 0TT\, United States
CATEGORIES:Christmas,Food
ATTACH;FMTTYPE=image/jpeg:https://lovenorfolk.co.uk/wp-content/uploads/2023/10/Winter-Wonderland-rides.jpg
END:VEVENT
BEGIN:VEVENT
DTSTART;TZID=Europe/London:20261114T173000
DTEND;TZID=Europe/London:20270103T193000
DTSTAMP:20260425T114843
CREATED:20250725T114231Z
LAST-MODIFIED:20260422T161952Z
UID:5425-1794677400-1799004600@lovenorfolk.co.uk
SUMMARY:The Norfolk Lights Express 2026
DESCRIPTION:Experience the enchantment of Christmas with a unique journey on the Norfolk Lights Express! This festive train ride departs from Sheringham Station and steams through the picturesque Norfolk countryside\, offering a dazzling display of lights and festive cheer. \n \nAll Aboard the Norfolk Lights Express for a Magical Christmas Journey! \nHere’s what awaits you in 2026 ( Brand New Show for 2066) : \n\nIlluminated Festive Scenes: Settle into the comfort of vintage carriages and be captivated by a mesmerising light show creating a magical atmosphere for all ages.\nTechnicolour Train: Marvel at the train itself\, adorned with thousands of twinkling lights that illuminate the night sky. The train’s external lights create an awesome technicolour display as it travels through the cuttings\, adding to the festive ambiance.\nStops Along the Way: Enjoy stops at Weybourne and Holt stations\, where you can disembark and capture the magic with festive selfies or simply soak up the enchanting atmosphere.\nOnboard Refreshments: A licensed bar and a range of refreshments are available onboard\, allowing you to enjoy festive treats and drinks as you journey through the illuminated countryside.\n\nPlan your journey: \n\nDates: Sat 14 Nov – Sunday 3rd January\nLocation: Sheringham Station\, Station Approach\, Sheringham\, Norfolk\, NR26 8RA\nTickets: Prices for 2026 are to be confirmed\, but expect a similar range to 2025 (£20-£25 per person). No concessions or refunds are available.\nBookings: For parties of 10 or more\, contact the reservation office directly. For general enquiries\, email enquiries@nnrailway.co.uk.\n\nDon’t miss this unforgettable Christmas experience! Book your tickets for the Norfolk Lights Express and create magical memories with your loved ones this holiday season. \n \n \nThe Norfolk Lights Express\, fully decorated with multi-coloured lights steams it’s way through the countryside between Sheringham and Holt. Here you will get an opportunity to hop and take a few selfies or visit the onboard bar.
URL:https://lovenorfolk.co.uk/event/the-norfolk-lights-express/
LOCATION:Sheringham Station\, Norfolk NR26 8RA\, Sheringham Station\, Norfolk NR26 8RA\, United Kingdom
CATEGORIES:Christmas
ATTACH;FMTTYPE=image/jpeg:https://lovenorfolk.co.uk/wp-content/uploads/2020/04/Norfolk-Lights-Express-2021.jpg
END:VEVENT
END:VCALENDAR