BEGIN:VCALENDAR
VERSION:2.0
PRODID:-//LoveNorfolk.co.uk - ECPv6.15.17.1//NONSGML v1.0//EN
CALSCALE:GREGORIAN
METHOD:PUBLISH
X-WR-CALNAME:LoveNorfolk.co.uk
X-ORIGINAL-URL:https://lovenorfolk.co.uk
X-WR-CALDESC:Events for LoveNorfolk.co.uk
REFRESH-INTERVAL;VALUE=DURATION:PT1H
X-Robots-Tag:noindex
X-PUBLISHED-TTL:PT1H
BEGIN:VTIMEZONE
TZID:Europe/London
BEGIN:DAYLIGHT
TZOFFSETFROM:+0000
TZOFFSETTO:+0100
TZNAME:BST
DTSTART:20260329T010000
END:DAYLIGHT
BEGIN:STANDARD
TZOFFSETFROM:+0100
TZOFFSETTO:+0000
TZNAME:GMT
DTSTART:20261025T010000
END:STANDARD
BEGIN:DAYLIGHT
TZOFFSETFROM:+0000
TZOFFSETTO:+0100
TZNAME:BST
DTSTART:20270328T010000
END:DAYLIGHT
BEGIN:STANDARD
TZOFFSETFROM:+0100
TZOFFSETTO:+0000
TZNAME:GMT
DTSTART:20271031T010000
END:STANDARD
BEGIN:DAYLIGHT
TZOFFSETFROM:+0000
TZOFFSETTO:+0100
TZNAME:BST
DTSTART:20280326T010000
END:DAYLIGHT
BEGIN:STANDARD
TZOFFSETFROM:+0100
TZOFFSETTO:+0000
TZNAME:GMT
DTSTART:20281029T010000
END:STANDARD
END:VTIMEZONE
BEGIN:VEVENT
DTSTART;VALUE=DATE:20270212
DTEND;VALUE=DATE:20270222
DTSTAMP:20260422T180049
CREATED:20250725T115834Z
LAST-MODIFIED:20260422T151951Z
UID:5431-1802390400-1803254399@lovenorfolk.co.uk
SUMMARY:Kings Lynn Fairground Mart 2027
DESCRIPTION:Kings Lynn Mart returns on Valentines day Friday 12th February 2027 with the Mayors’s official opening at midday. Traditionally the opening to the travelling season\, King’s Lynn Mart has a special place in the hearts of the travelling show people. \n \nThe mart continues a tradition from the later half of the nineteenth century when the King’s Lynn Mart was a spectacular event in which Frederick Savage of King’s Lynn displayed his latest roundabouts and fairground attractions to the showmen. This display of new machines and amusements continues today with the showmen vying to display the latest amusements. Traditionally\, this is the first funfair in the Showmen’s calendar where new rides are tried out and old favourites brought out from winter storage. \n \nThe 820th Kings Lynn Mart which runs from the 12th February 2027 includes the same traditional rides and stalls as well as new rides called the Tornado\, Over the Falls and the Fighter\, which is a smaller version of the popular ride\, Extreme. The ‘Booster’ pendulum ride will be back\, as will the ride he calls the ‘Crazy Shake’ after it was introduced ‘with success last year’. For two whole weeks from Valentines day\, the town will see thousands of people come and experience all the fun of the showman’s travelling fair. The mart will be held at the Tuesday Market place. \nChildren’s Day\, in which all rides are reduced to £1.50 except for the Booster\, dodgems and cars\, will be taking place on Monday 17th. \n\n \nDon’t miss out on all the BIG events on the Norfolk Coast. Follow us @lovenorfolk \n \nQueen Visits Kings Lynn Mart in February 1953.
URL:https://lovenorfolk.co.uk/event/kings-lynn-mart/
LOCATION:Tuesday Market Place\, Kings Lynn\, PE30 1AX\, Tuesday Market Place\, Kings Lynn\, PE30 1AX\, United Kingdom
CATEGORIES:Norfolk Festivals
ATTACH;FMTTYPE=image/jpeg:https://lovenorfolk.co.uk/wp-content/uploads/2019/12/Kings-Lynn-Mart.jpg
END:VEVENT
END:VCALENDAR