BEGIN:VCALENDAR
VERSION:2.0
PRODID:-//LoveNorfolk.co.uk - ECPv6.15.17.1//NONSGML v1.0//EN
CALSCALE:GREGORIAN
METHOD:PUBLISH
X-ORIGINAL-URL:https://lovenorfolk.co.uk
X-WR-CALDESC:Events for LoveNorfolk.co.uk
REFRESH-INTERVAL;VALUE=DURATION:PT1H
X-Robots-Tag:noindex
X-PUBLISHED-TTL:PT1H
BEGIN:VTIMEZONE
TZID:Europe/London
BEGIN:DAYLIGHT
TZOFFSETFROM:+0000
TZOFFSETTO:+0100
TZNAME:BST
DTSTART:20240331T010000
END:DAYLIGHT
BEGIN:STANDARD
TZOFFSETFROM:+0100
TZOFFSETTO:+0000
TZNAME:GMT
DTSTART:20241027T010000
END:STANDARD
BEGIN:DAYLIGHT
TZOFFSETFROM:+0000
TZOFFSETTO:+0100
TZNAME:BST
DTSTART:20250330T010000
END:DAYLIGHT
BEGIN:STANDARD
TZOFFSETFROM:+0100
TZOFFSETTO:+0000
TZNAME:GMT
DTSTART:20251026T010000
END:STANDARD
BEGIN:DAYLIGHT
TZOFFSETFROM:+0000
TZOFFSETTO:+0100
TZNAME:BST
DTSTART:20260329T010000
END:DAYLIGHT
BEGIN:STANDARD
TZOFFSETFROM:+0100
TZOFFSETTO:+0000
TZNAME:GMT
DTSTART:20261025T010000
END:STANDARD
END:VTIMEZONE
BEGIN:VEVENT
DTSTART;TZID=Europe/London:20250802T180000
DTEND;TZID=Europe/London:20250802T220000
DTSTAMP:20260420T113732
CREATED:20250725T114816Z
LAST-MODIFIED:20260216T090655Z
UID:5428-1754157600-1754172000@lovenorfolk.co.uk
SUMMARY:Blickling Classic Ibiza Evening 2025
DESCRIPTION:The Urban Soul Orchestra conducted by Stephen Hussey returns in 2025 for its 10th anniversary   of classic Ibiza anthems  on Saturday 2nd August 2025. The event will once again take place under the stars\, with live DJ and vocalists. \n​​This will be Norfolk’s biggest dance party of the Summer full of iconic Ibiza anthems. A chill-out set in the first half will be followed by a half hour interval with the DJ playing the latest Ibiza tunes. \n \n \n​​As dusk falls\, the lasers will hit the Blickling skyline as the Urban Soul Orchestra return to bring some of the best of the White Island’s dance tunes to orchestral life. Stephen is the conductor\, arranger and musical producer for Classic Ibiza\, as well as the founder and musical director of the Urban Soul Orchestra. During his 30-year career\, he has enjoyed collaborating with many of the industry’s most prestigious artists and producers\, including Nitin Sawhney\, Maxi Priest\, Robert Miles\, Full Intention\, Take That\, D-Influence\, Octave One\, Soul II Soul\, Jamiroquai\, Nightmares On Wax\, Groove Armada and The Script. \n \nStephen has released three Classic Ibiza-inspired albums\, which you can stream on Spotify and all other music platforms. The gig is split into two halves – starting with a chill-out set followed by a series of dance-floor fillers. The first set starts at 8pm and he concert is expected to finish at around 10pm. \nClassic Ibiza is a heady mix of iconic dance tunes\, a classical orchestra and a music festival in a stunning setting. Whether you want to sit back and relax with a glass of bubbly over a picnic in the evening sun\, or get up and dance the night away\, everyone is guaranteed a great time.
URL:https://lovenorfolk.co.uk/event/blickling-classic-ibiza-evening/
LOCATION:Blickling Hall Norwich Norfolk NR11 6NF\, Blickling Hall Norwich Norfolk NR11 6NF\, United Kingdom
CATEGORIES:Blickling,Norfolk Festivals,Summer
ATTACH;FMTTYPE=image/jpeg:https://lovenorfolk.co.uk/wp-content/uploads/2019/10/Classic-Blickling-Ibiza.jpg
END:VEVENT
END:VCALENDAR